BEGIN:VCALENDAR
VERSION:2.0
PRODID:-//Johannes Maciejonczyk - ECPv6.15.15//NONSGML v1.0//EN
CALSCALE:GREGORIAN
METHOD:PUBLISH
X-WR-CALNAME:Johannes Maciejonczyk
X-ORIGINAL-URL:https://johannes-maciejonczyk.de
X-WR-CALDESC:Veranstaltungen für Johannes Maciejonczyk
REFRESH-INTERVAL;VALUE=DURATION:PT1H
X-Robots-Tag:noindex
X-PUBLISHED-TTL:PT1H
BEGIN:VTIMEZONE
TZID:Europe/Berlin
BEGIN:DAYLIGHT
TZOFFSETFROM:+0100
TZOFFSETTO:+0200
TZNAME:CEST
DTSTART:20250330T010000
END:DAYLIGHT
BEGIN:STANDARD
TZOFFSETFROM:+0200
TZOFFSETTO:+0100
TZNAME:CET
DTSTART:20251026T010000
END:STANDARD
BEGIN:DAYLIGHT
TZOFFSETFROM:+0100
TZOFFSETTO:+0200
TZNAME:CEST
DTSTART:20260329T010000
END:DAYLIGHT
BEGIN:STANDARD
TZOFFSETFROM:+0200
TZOFFSETTO:+0100
TZNAME:CET
DTSTART:20261025T010000
END:STANDARD
BEGIN:DAYLIGHT
TZOFFSETFROM:+0100
TZOFFSETTO:+0200
TZNAME:CEST
DTSTART:20270328T010000
END:DAYLIGHT
BEGIN:STANDARD
TZOFFSETFROM:+0200
TZOFFSETTO:+0100
TZNAME:CET
DTSTART:20271031T010000
END:STANDARD
END:VTIMEZONE
BEGIN:VEVENT
DTSTART;TZID=Europe/Berlin:20260306T190000
DTEND;TZID=Europe/Berlin:20260306T230000
DTSTAMP:20260421T124029
CREATED:20260205T102415Z
LAST-MODIFIED:20260205T102415Z
UID:423-1772823600-1772838000@johannes-maciejonczyk.de
SUMMARY:CSU Burgebrach
DESCRIPTION:Schwanenbräu Burgebrach Hauptstraße 16\, 96138 Burgebrach\, Deutschland (Karte)
URL:https://johannes-maciejonczyk.de/termin/csu-burgebrach/
END:VEVENT
BEGIN:VEVENT
DTSTART;TZID=Europe/Berlin:20260301T150000
DTEND;TZID=Europe/Berlin:20260301T170000
DTSTAMP:20260421T124029
CREATED:20260205T102308Z
LAST-MODIFIED:20260205T102308Z
UID:421-1772377200-1772384400@johannes-maciejonczyk.de
SUMMARY:CSU Burgebrach in Stappenbach
DESCRIPTION:Stappenbach\, Brauerei Dreßel (Karte)
URL:https://johannes-maciejonczyk.de/termin/csu-burgebrach-in-stappenbach/
END:VEVENT
BEGIN:VEVENT
DTSTART;TZID=Europe/Berlin:20260301T110000
DTEND;TZID=Europe/Berlin:20260301T130000
DTSTAMP:20260421T124029
CREATED:20260205T102248Z
LAST-MODIFIED:20260205T102248Z
UID:419-1772362800-1772370000@johannes-maciejonczyk.de
SUMMARY:CSU Buttenheim
DESCRIPTION:96155 Buttenheim \, Sportheim Phönix Bittenheim (Karte)
URL:https://johannes-maciejonczyk.de/termin/csu-buttenheim/
END:VEVENT
BEGIN:VEVENT
DTSTART;TZID=Europe/Berlin:20260226T190000
DTEND;TZID=Europe/Berlin:20260226T210000
DTSTAMP:20260421T124029
CREATED:20260205T102218Z
LAST-MODIFIED:20260205T102218Z
UID:417-1772132400-1772139600@johannes-maciejonczyk.de
SUMMARY:CSU Scheßlitz - OT Demmelsdorf
DESCRIPTION:96110 Scheßlitz-Demmelsdorf\, Benno-Schmitt-Str. 14 (Karte)
URL:https://johannes-maciejonczyk.de/termin/csu-schesslitz-ot-demmelsdorf/
END:VEVENT
BEGIN:VEVENT
DTSTART;TZID=Europe/Berlin:20260226T190000
DTEND;TZID=Europe/Berlin:20260226T210000
DTSTAMP:20260421T124029
CREATED:20260205T102148Z
LAST-MODIFIED:20260205T102148Z
UID:415-1772132400-1772139600@johannes-maciejonczyk.de
SUMMARY:CSU Ebrach
DESCRIPTION:96157 Ebrach\, Schwimmbadweg (Karte)
URL:https://johannes-maciejonczyk.de/termin/csu-ebrach/
END:VEVENT
BEGIN:VEVENT
DTSTART;TZID=Europe/Berlin:20260226T190000
DTEND;TZID=Europe/Berlin:20260226T210000
DTSTAMP:20260421T124029
CREATED:20260205T102119Z
LAST-MODIFIED:20260205T102119Z
UID:413-1772132400-1772139600@johannes-maciejonczyk.de
SUMMARY:CSU Burgebrach in Unterneues
DESCRIPTION:Unterneuses Dorfgemeinschaftshaus (Karte)
URL:https://johannes-maciejonczyk.de/termin/csu-burgebrach-in-unterneues/
END:VEVENT
BEGIN:VEVENT
DTSTART;TZID=Europe/Berlin:20260225T190000
DTEND;TZID=Europe/Berlin:20260225T210000
DTSTAMP:20260421T124029
CREATED:20260205T102050Z
LAST-MODIFIED:20260205T102050Z
UID:411-1772046000-1772053200@johannes-maciejonczyk.de
SUMMARY:CSU Scheßlitz - OT Ludwag
DESCRIPTION:96110 Scheßlitz-Ludwag\, Hans-Wölfel-Str. 3 (Karte)
URL:https://johannes-maciejonczyk.de/termin/csu-schesslitz-ot-ludwag/
END:VEVENT
BEGIN:VEVENT
DTSTART;TZID=Europe/Berlin:20260225T190000
DTEND;TZID=Europe/Berlin:20260225T210000
DTSTAMP:20260421T124029
CREATED:20260205T102023Z
LAST-MODIFIED:20260205T102023Z
UID:409-1772046000-1772053200@johannes-maciejonczyk.de
SUMMARY:CSU Pommersfelden
DESCRIPTION:Gastwirtschaft Hopf\, Stolzenroth 20\, 96178 Pommersfelden\, Deutschland (Karte)
URL:https://johannes-maciejonczyk.de/termin/csu-pommersfelden/
END:VEVENT
BEGIN:VEVENT
DTSTART;TZID=Europe/Berlin:20260224T190000
DTEND;TZID=Europe/Berlin:20260224T210000
DTSTAMP:20260421T124029
CREATED:20260205T101956Z
LAST-MODIFIED:20260205T101956Z
UID:407-1771959600-1771966800@johannes-maciejonczyk.de
SUMMARY:CSU Ebrach in Großgressingen
DESCRIPTION:96157 Ebrach-Großgressingen\, Feuerwehrhaus Ortsmitte (Karte)
URL:https://johannes-maciejonczyk.de/termin/csu-ebrach-in-grossgressingen/
END:VEVENT
BEGIN:VEVENT
DTSTART;TZID=Europe/Berlin:20260223T193000
DTEND;TZID=Europe/Berlin:20260223T210000
DTSTAMP:20260421T124029
CREATED:20260205T101933Z
LAST-MODIFIED:20260205T101933Z
UID:405-1771875000-1771880400@johannes-maciejonczyk.de
SUMMARY:CSU Schönbrunn
DESCRIPTION:96185 Schönbrunn\, Obere Bachgasse 5\, Saal der Brauerei Wernsdörfer (Karte)
URL:https://johannes-maciejonczyk.de/termin/csu-schoenbrunn/
END:VEVENT
BEGIN:VEVENT
DTSTART;TZID=Europe/Berlin:20260223T190000
DTEND;TZID=Europe/Berlin:20260223T210000
DTSTAMP:20260421T124029
CREATED:20260205T101911Z
LAST-MODIFIED:20260205T101911Z
UID:403-1771873200-1771880400@johannes-maciejonczyk.de
SUMMARY:CSU Scheßlitz - OT Ehrl
DESCRIPTION:96110 Scheßlitz-Ehrl\, Ehrl 10 (Karte)
URL:https://johannes-maciejonczyk.de/termin/csu-schesslitz-ot-ehrl/
END:VEVENT
BEGIN:VEVENT
DTSTART;TZID=Europe/Berlin:20260222T180000
DTEND;TZID=Europe/Berlin:20260222T193000
DTSTAMP:20260421T124029
CREATED:20260205T101848Z
LAST-MODIFIED:20260205T101848Z
UID:401-1771783200-1771788600@johannes-maciejonczyk.de
SUMMARY:CSU Lauter
DESCRIPTION:96169 Lauter\, Deutschland\, Schulstr. 18\, Sportheim (Karte)
URL:https://johannes-maciejonczyk.de/termin/csu-lauter/
END:VEVENT
BEGIN:VEVENT
DTSTART;TZID=Europe/Berlin:20260222T170000
DTEND;TZID=Europe/Berlin:20260222T210000
DTSTAMP:20260421T124029
CREATED:20260205T101823Z
LAST-MODIFIED:20260205T101823Z
UID:399-1771779600-1771794000@johannes-maciejonczyk.de
SUMMARY:CSU Burgebrach: Frauenkino
DESCRIPTION:Zimmerstutzen-Schützengesellschaft Burgebrach Falkweg 43\, 96138 Burgebrach\, Deutschland (Karte)
URL:https://johannes-maciejonczyk.de/termin/csu-burgebrach-frauenkino/
END:VEVENT
BEGIN:VEVENT
DTSTART;TZID=Europe/Berlin:20260222T110000
DTEND;TZID=Europe/Berlin:20260222T130000
DTSTAMP:20260421T124029
CREATED:20260205T101758Z
LAST-MODIFIED:20260205T101758Z
UID:396-1771758000-1771765200@johannes-maciejonczyk.de
SUMMARY:CSU Steinfeld / Weißwurst-Frühschoppen
DESCRIPTION:W. Schrauder\, Steinfeld 60\, 96187 Stadelhofen\, Deutschland (Karte)
URL:https://johannes-maciejonczyk.de/termin/csu-steinfeld-weisswurst-fruehschoppen/
END:VEVENT
BEGIN:VEVENT
DTSTART;TZID=Europe/Berlin:20260221T090000
DTEND;TZID=Europe/Berlin:20260221T130000
DTSTAMP:20260421T124029
CREATED:20260205T101732Z
LAST-MODIFIED:20260205T101732Z
UID:394-1771664400-1771678800@johannes-maciejonczyk.de
SUMMARY:CSU Baunach - Infostände
DESCRIPTION:96148 Baunach\, Haßbergstr. 40\, REWE (Karte)
URL:https://johannes-maciejonczyk.de/termin/csu-baunach-infostaende/
END:VEVENT
BEGIN:VEVENT
DTSTART;TZID=Europe/Berlin:20260220T193000
DTEND;TZID=Europe/Berlin:20260220T210000
DTSTAMP:20260421T124029
CREATED:20260205T101704Z
LAST-MODIFIED:20260205T101704Z
UID:392-1771615800-1771621200@johannes-maciejonczyk.de
SUMMARY:CSU Burgwindheim
DESCRIPTION:Burgwindheim\, Hauptstr. 17\, Schloss Burgwindheim (Karte)
URL:https://johannes-maciejonczyk.de/termin/csu-burgwindheim/
END:VEVENT
BEGIN:VEVENT
DTSTART;TZID=Europe/Berlin:20260220T190000
DTEND;TZID=Europe/Berlin:20260220T210000
DTSTAMP:20260421T124029
CREATED:20260205T101636Z
LAST-MODIFIED:20260205T101636Z
UID:390-1771614000-1771621200@johannes-maciejonczyk.de
SUMMARY:CSU Hallstadt Heringsessen
DESCRIPTION:Katholisches Pfarr- und Jugendheim St. Kilian Hallstadt\, Lichtenfelser Str. 4\, 96103 Hallstadt\, Deutschland (Karte)
URL:https://johannes-maciejonczyk.de/termin/csu-hallstadt-heringsessen/
END:VEVENT
BEGIN:VEVENT
DTSTART;TZID=Europe/Berlin:20260220T183000
DTEND;TZID=Europe/Berlin:20260220T200000
DTSTAMP:20260421T124029
CREATED:20260205T101612Z
LAST-MODIFIED:20260205T101612Z
UID:388-1771612200-1771617600@johannes-maciejonczyk.de
SUMMARY:CSU Lauter in Deusdorf
DESCRIPTION:Leppelsdorfer Straße\, Leppelsdorfer Str.\, 96169 Lauter-Deusdorf\, Deutschland (Karte)
URL:https://johannes-maciejonczyk.de/termin/csu-lauter-in-deusdorf/
END:VEVENT
BEGIN:VEVENT
DTSTART;TZID=Europe/Berlin:20260220T180000
DTEND;TZID=Europe/Berlin:20260220T200000
DTSTAMP:20260421T124029
CREATED:20260205T101516Z
LAST-MODIFIED:20260205T101516Z
UID:386-1771610400-1771617600@johannes-maciejonczyk.de
SUMMARY:CSU Zapfendorf - Politischer Ascherfreitag
DESCRIPTION:96199 Zapfendorf\, Gaststätte Jüngling\, Hauptstraße 20\, (Karte)
URL:https://johannes-maciejonczyk.de/termin/csu-zapfendorf-politischer-ascherfreitag/
END:VEVENT
BEGIN:VEVENT
DTSTART;TZID=Europe/Berlin:20260219T203000
DTEND;TZID=Europe/Berlin:20260219T223000
DTSTAMP:20260421T124029
CREATED:20260205T101413Z
LAST-MODIFIED:20260205T101413Z
UID:384-1771533000-1771540200@johannes-maciejonczyk.de
SUMMARY:CSU Litzendorf in Schammelsdorf
DESCRIPTION:96123 Litzendorf\, Grubfeld 2\, Aloisiusheim\, (Karte)
URL:https://johannes-maciejonczyk.de/termin/csu-litzendorf-in-schammelsdorf/
END:VEVENT
BEGIN:VEVENT
DTSTART;TZID=Europe/Berlin:20260219T190000
DTEND;TZID=Europe/Berlin:20260219T210000
DTSTAMP:20260421T124029
CREATED:20260205T101347Z
LAST-MODIFIED:20260205T101347Z
UID:382-1771527600-1771534800@johannes-maciejonczyk.de
SUMMARY:CSU Scheßlitz - OT Peulendorf
DESCRIPTION:96110 Scheßlitz-Peulendorf\, Peulendorf 16 (Karte)
URL:https://johannes-maciejonczyk.de/termin/csu-schesslitz-ot-peulendorf/
END:VEVENT
BEGIN:VEVENT
DTSTART;TZID=Europe/Berlin:20260218T203000
DTEND;TZID=Europe/Berlin:20260218T213000
DTSTAMP:20260421T124029
CREATED:20260205T101323Z
LAST-MODIFIED:20260205T101323Z
UID:380-1771446600-1771450200@johannes-maciejonczyk.de
SUMMARY:CSU Kemmern - polit. Aschermittwoch
DESCRIPTION:Kemmern\, 96164 Kemmern\, Brauerei Wagner (Karte)
URL:https://johannes-maciejonczyk.de/termin/csu-kemmern-polit-aschermittwoch/
END:VEVENT
BEGIN:VEVENT
DTSTART;TZID=Europe/Berlin:20260218T183000
DTEND;TZID=Europe/Berlin:20260218T203000
DTSTAMP:20260421T124029
CREATED:20260205T101210Z
LAST-MODIFIED:20260205T101210Z
UID:378-1771439400-1771446600@johannes-maciejonczyk.de
SUMMARY:CSU Rattelsdorf
DESCRIPTION:96179 Rattelsdorf\, Kirchgasse 14\, Gastwirtschaft zur Goldenen Krone (Karte)
URL:https://johannes-maciejonczyk.de/termin/csu-rattelsdorf/
END:VEVENT
BEGIN:VEVENT
DTSTART;TZID=Europe/Berlin:20260214T100000
DTEND;TZID=Europe/Berlin:20260214T130000
DTSTAMP:20260421T124029
CREATED:20260205T101143Z
LAST-MODIFIED:20260205T101143Z
UID:376-1771063200-1771074000@johannes-maciejonczyk.de
SUMMARY:CSU Reckendorf - Infostand
DESCRIPTION:96182 Reckendorf\, Geracher Str. 1 (Karte)
URL:https://johannes-maciejonczyk.de/termin/csu-reckendorf-infostand/
END:VEVENT
BEGIN:VEVENT
DTSTART;TZID=Europe/Berlin:20260214T070000
DTEND;TZID=Europe/Berlin:20260214T110000
DTSTAMP:20260421T124029
CREATED:20260205T101052Z
LAST-MODIFIED:20260205T101052Z
UID:374-1771052400-1771066800@johannes-maciejonczyk.de
SUMMARY:CSU Baunach - Infostand
DESCRIPTION:96148 Baunach\, Bamberger Str. 9\, Vitalscheune Baunach (Karte)
URL:https://johannes-maciejonczyk.de/termin/csu-baunach-infostand/
END:VEVENT
BEGIN:VEVENT
DTSTART;TZID=Europe/Berlin:20260212T190000
DTEND;TZID=Europe/Berlin:20260212T210000
DTSTAMP:20260421T124029
CREATED:20260205T101012Z
LAST-MODIFIED:20260205T101012Z
UID:372-1770922800-1770930000@johannes-maciejonczyk.de
SUMMARY:CSU Scheßlitz - OT Giech
DESCRIPTION:96110 Scheßlitz-Giech\, Leitenweg 14 (Karte)
URL:https://johannes-maciejonczyk.de/termin/csu-schesslitz-ot-giech/
END:VEVENT
BEGIN:VEVENT
DTSTART;TZID=Europe/Berlin:20260211T203000
DTEND;TZID=Europe/Berlin:20260211T220000
DTSTAMP:20260421T124029
CREATED:20260205T100942Z
LAST-MODIFIED:20260205T100942Z
UID:370-1770841800-1770847200@johannes-maciejonczyk.de
SUMMARY:CSU Stadelh./Steinf.-Wölkendorf
DESCRIPTION:96187 Stadelhofen\, Wölkendorf\, Wölkendorf 2\, Gasthof zum Goldenen Schwan (Karte)
URL:https://johannes-maciejonczyk.de/termin/csu-stadelh-steinf-woelkendorf/
END:VEVENT
BEGIN:VEVENT
DTSTART;TZID=Europe/Berlin:20260211T193000
DTEND;TZID=Europe/Berlin:20260211T213000
DTSTAMP:20260421T124029
CREATED:20260205T100850Z
LAST-MODIFIED:20260205T100850Z
UID:366-1770838200-1770845400@johannes-maciejonczyk.de
SUMMARY:CSU Stegaurach
DESCRIPTION:96135 Stegaurach\, Restaurant Nettuno (Karte)
URL:https://johannes-maciejonczyk.de/termin/csu-stegaurach/
END:VEVENT
BEGIN:VEVENT
DTSTART;TZID=Europe/Berlin:20260211T193000
DTEND;TZID=Europe/Berlin:20260211T210000
DTSTAMP:20260421T124029
CREATED:20260205T100915Z
LAST-MODIFIED:20260205T100915Z
UID:368-1770838200-1770843600@johannes-maciejonczyk.de
SUMMARY:CSU Schönbrunn in Steinsdorf
DESCRIPTION:96185 Schönbrunn\, Steinsdorfer Haupstr\, Dorfgemeinschaftshaus (Karte)
URL:https://johannes-maciejonczyk.de/termin/csu-schoenbrunn-in-steinsdorf/
END:VEVENT
BEGIN:VEVENT
DTSTART;TZID=Europe/Berlin:20260211T190000
DTEND;TZID=Europe/Berlin:20260211T210000
DTSTAMP:20260421T124029
CREATED:20260205T100718Z
LAST-MODIFIED:20260205T100718Z
UID:359-1770836400-1770843600@johannes-maciejonczyk.de
SUMMARY:CSU Scheßlitz - OT Burgellern
DESCRIPTION:96110 Scheßlitz-Burgellern\, Am Ellerbach 16 (Karte)
URL:https://johannes-maciejonczyk.de/termin/csu-schesslitz-ot-burgellern/
END:VEVENT
END:VCALENDAR